Package: TDbasedUFE Version: 1.6.0 Command: /Library/Frameworks/R.framework/Resources/bin/R CMD check --install=check:TDbasedUFE.install-out.txt --library=/Library/Frameworks/R.framework/Resources/library --no-vignettes --timings TDbasedUFE_1.6.0.tar.gz StartedAt: 2025-04-02 11:05:38 -0400 (Wed, 02 Apr 2025) EndedAt: 2025-04-02 11:07:55 -0400 (Wed, 02 Apr 2025) EllapsedTime: 136.6 seconds RetCode: 0 Status: OK CheckDir: TDbasedUFE.Rcheck Warnings: 0