Package: TDbasedUFE Version: 1.6.0 Command: /Library/Frameworks/R.framework/Resources/bin/R CMD build --keep-empty-dirs --no-resave-data TDbasedUFE StartedAt: 2025-04-01 09:07:23 -0400 (Tue, 01 Apr 2025) EndedAt: 2025-04-01 09:08:02 -0400 (Tue, 01 Apr 2025) EllapsedTime: 39.2 seconds RetCode: 0 Status: OK PackageFile: TDbasedUFE_1.6.0.tar.gz PackageFileSize: 1.349 MiB