Package: TCseq Version: 1.29.0 Command: rm -rf TCseq.buildbin-libdir && mkdir TCseq.buildbin-libdir && F:\biocbuild\bbs-3.20-bioc\R\bin\R.exe CMD INSTALL --build --library=TCseq.buildbin-libdir TCseq_1.29.0.tar.gz StartedAt: 2024-06-10 15:21:23 -0400 (Mon, 10 Jun 2024) EndedAt: 2024-06-10 15:23:11 -0400 (Mon, 10 Jun 2024) EllapsedTime: 107.7 seconds RetCode: 0 Status: OK PackageFile: TCseq_1.29.0.zip PackageFileSize: 739.2 KiB