Package: TCseq Version: 1.30.0 Command: /Library/Frameworks/R.framework/Resources/bin/R CMD INSTALL TCseq StartedAt: 2025-03-31 15:53:13 -0400 (Mon, 31 Mar 2025) EndedAt: 2025-03-31 15:53:45 -0400 (Mon, 31 Mar 2025) EllapsedTime: 32.9 seconds RetCode: 0 Status: OK