Package: TCGAutils Version: 1.26.0 Command: /Library/Frameworks/R.framework/Resources/bin/R CMD build --keep-empty-dirs --no-resave-data TCGAutils StartedAt: 2025-01-27 23:08:11 -0500 (Mon, 27 Jan 2025) EndedAt: 2025-01-27 23:13:08 -0500 (Mon, 27 Jan 2025) EllapsedTime: 297.1 seconds RetCode: 0 Status: OK PackageFile: TCGAutils_1.26.0.tar.gz PackageFileSize: 398.2 KiB