Package: TCGAbiolinks Version: 2.34.0 Command: /home/biocbuild/R/R/bin/R CMD INSTALL TCGAbiolinks StartedAt: 2025-02-03 20:50:23 -0000 (Mon, 03 Feb 2025) EndedAt: 2025-02-03 20:51:15 -0000 (Mon, 03 Feb 2025) EllapsedTime: 51.8 seconds RetCode: 0 Status: OK