Package: TCGAbiolinks Version: 2.34.0 Command: /home/biocbuild/R/R/bin/R CMD build --keep-empty-dirs --no-resave-data TCGAbiolinks StartedAt: 2025-01-31 03:08:26 -0000 (Fri, 31 Jan 2025) EndedAt: 2025-01-31 03:15:30 -0000 (Fri, 31 Jan 2025) EllapsedTime: 423.3 seconds RetCode: 1 Status: ERROR PackageFile: None PackageFileSize: NA