Package: TCGAbiolinks Version: 2.34.0 Command: /Library/Frameworks/R.framework/Resources/bin/R CMD INSTALL TCGAbiolinks StartedAt: 2025-01-30 15:51:02 -0500 (Thu, 30 Jan 2025) EndedAt: 2025-01-30 15:52:36 -0500 (Thu, 30 Jan 2025) EllapsedTime: 94.1 seconds RetCode: 0 Status: OK