Package: TCGAbiolinks Version: 2.34.0 Command: /Library/Frameworks/R.framework/Resources/bin/R CMD check --install=check:TCGAbiolinks.install-out.txt --library=/Library/Frameworks/R.framework/Resources/library --no-vignettes --timings TCGAbiolinks_2.34.0.tar.gz StartedAt: 2024-11-21 12:00:59 -0500 (Thu, 21 Nov 2024) EndedAt: 2024-11-21 12:11:43 -0500 (Thu, 21 Nov 2024) EllapsedTime: 643.7 seconds RetCode: 1 Status: ERROR CheckDir: TCGAbiolinks.Rcheck Warnings: NA