Package: TCGAbiolinks Version: 2.34.0 Command: /Library/Frameworks/R.framework/Resources/bin/R CMD INSTALL TCGAbiolinks StartedAt: 2025-01-30 16:25:23 -0500 (Thu, 30 Jan 2025) EndedAt: 2025-01-30 16:26:16 -0500 (Thu, 30 Jan 2025) EllapsedTime: 52.5 seconds RetCode: 0 Status: OK