Package: TCC Version: 1.46.0 Command: F:\biocbuild\bbs-3.20-bioc\R\bin\R.exe CMD INSTALL TCC StartedAt: 2025-01-30 15:59:12 -0500 (Thu, 30 Jan 2025) EndedAt: 2025-01-30 15:59:58 -0500 (Thu, 30 Jan 2025) EllapsedTime: 46.7 seconds RetCode: 0 Status: OK