Package: TAPseq Version: 1.18.0 Command: /home/biocbuild/R/R/bin/R CMD build --keep-empty-dirs --no-resave-data TAPseq StartedAt: 2025-01-31 03:07:27 -0000 (Fri, 31 Jan 2025) EndedAt: 2025-01-31 03:12:57 -0000 (Fri, 31 Jan 2025) EllapsedTime: 330.2 seconds RetCode: 0 Status: OK PackageFile: TAPseq_1.18.0.tar.gz PackageFileSize: 2.513 MiB