Package: TAPseq Version: 1.18.0 Command: chmod a+r TAPseq -R && F:\biocbuild\bbs-3.20-bioc\R\bin\R.exe CMD build --keep-empty-dirs --no-resave-data TAPseq StartedAt: 2025-01-30 22:14:49 -0500 (Thu, 30 Jan 2025) EndedAt: 2025-01-30 22:20:11 -0500 (Thu, 30 Jan 2025) EllapsedTime: 322.1 seconds RetCode: 0 Status: OK PackageFile: TAPseq_1.18.0.tar.gz PackageFileSize: 2.437 MiB