Package: TAPseq Version: 1.18.0 Command: rm -rf TAPseq.buildbin-libdir && mkdir TAPseq.buildbin-libdir && F:\biocbuild\bbs-3.20-bioc\R\bin\R.exe CMD INSTALL --build --library=TAPseq.buildbin-libdir TAPseq_1.18.0.tar.gz StartedAt: 2025-04-01 09:21:52 -0400 (Tue, 01 Apr 2025) EndedAt: 2025-04-01 09:23:28 -0400 (Tue, 01 Apr 2025) EllapsedTime: 96.1 seconds RetCode: 0 Status: OK PackageFile: TAPseq_1.18.0.zip PackageFileSize: 2.877 MiB