Package: TAPseq Version: 1.18.0 Command: /Library/Frameworks/R.framework/Resources/bin/R CMD check --install=check:TAPseq.install-out.txt --library=/Library/Frameworks/R.framework/Resources/library --no-vignettes --timings TAPseq_1.18.0.tar.gz StartedAt: 2025-04-02 11:01:35 -0400 (Wed, 02 Apr 2025) EndedAt: 2025-04-02 11:13:09 -0400 (Wed, 02 Apr 2025) EllapsedTime: 693.6 seconds RetCode: 0 Status: WARNINGS CheckDir: TAPseq.Rcheck Warnings: 1