Package: SynMut Version: 1.22.0 Command: /Library/Frameworks/R.framework/Resources/bin/R CMD build --keep-empty-dirs --no-resave-data SynMut StartedAt: 2025-01-28 09:14:21 -0500 (Tue, 28 Jan 2025) EndedAt: 2025-01-28 09:14:44 -0500 (Tue, 28 Jan 2025) EllapsedTime: 22.7 seconds RetCode: 0 Status: OK PackageFile: SynMut_1.22.0.tar.gz PackageFileSize: 104.6 KiB