Package: SynMut Version: 1.22.0 Command: rm -rf SynMut.buildbin-libdir && mkdir SynMut.buildbin-libdir && /Users/biocbuild/BBS/utils/build-universal.sh SynMut_1.22.0.tar.gz /Library/Frameworks/R.framework/Resources/bin/R SynMut.buildbin-libdir StartedAt: 2025-04-02 16:35:08 -0400 (Wed, 02 Apr 2025) EndedAt: 2025-04-02 16:35:24 -0400 (Wed, 02 Apr 2025) EllapsedTime: 16.1 seconds RetCode: 0 Status: OK PackageFile: SynMut_1.22.0.tgz PackageFileSize: 316.3 KiB