Package: SynExtend Version: 1.18.0 Command: /home/biocbuild/R/R/bin/R CMD INSTALL SynExtend StartedAt: 2025-01-27 21:15:56 -0000 (Mon, 27 Jan 2025) EndedAt: 2025-01-27 21:16:34 -0000 (Mon, 27 Jan 2025) EllapsedTime: 38.1 seconds RetCode: 0 Status: OK