Package: SynExtend Version: 1.18.0 Command: /home/biocbuild/bbs-3.20-bioc/R/bin/R CMD INSTALL SynExtend StartedAt: 2025-01-27 16:07:43 -0500 (Mon, 27 Jan 2025) EndedAt: 2025-01-27 16:08:08 -0500 (Mon, 27 Jan 2025) EllapsedTime: 24.5 seconds RetCode: 0 Status: OK