Package: SynExtend Version: 1.18.0 Command: /home/biocbuild/R/R/bin/R CMD check --install=check:SynExtend.install-out.txt --library=/home/biocbuild/R/R/site-library --no-vignettes --timings SynExtend_1.18.0.tar.gz StartedAt: 2024-11-20 13:06:41 -0000 (Wed, 20 Nov 2024) EndedAt: 2024-11-20 13:17:11 -0000 (Wed, 20 Nov 2024) EllapsedTime: 629.2 seconds RetCode: 0 Status: OK CheckDir: SynExtend.Rcheck Warnings: 0