Package: SynExtend Version: 1.18.0 Command: /Library/Frameworks/R.framework/Resources/bin/R CMD INSTALL SynExtend StartedAt: 2025-01-27 15:40:57 -0500 (Mon, 27 Jan 2025) EndedAt: 2025-01-27 15:41:27 -0500 (Mon, 27 Jan 2025) EllapsedTime: 29.5 seconds RetCode: 0 Status: OK