Package: SynExtend Version: 1.18.0 Command: /Library/Frameworks/R.framework/Resources/bin/R CMD check --install=check:SynExtend.install-out.txt --library=/Library/Frameworks/R.framework/Resources/library --no-vignettes --timings SynExtend_1.18.0.tar.gz StartedAt: 2025-01-29 11:14:29 -0500 (Wed, 29 Jan 2025) EndedAt: 2025-01-29 11:23:58 -0500 (Wed, 29 Jan 2025) EllapsedTime: 569.0 seconds RetCode: 0 Status: OK CheckDir: SynExtend.Rcheck Warnings: 0