Package: SynExtend Version: 1.18.0 Command: /Library/Frameworks/R.framework/Resources/bin/R CMD build --keep-empty-dirs --no-resave-data SynExtend StartedAt: 2025-01-28 09:13:49 -0500 (Tue, 28 Jan 2025) EndedAt: 2025-01-28 09:15:01 -0500 (Tue, 28 Jan 2025) EllapsedTime: 71.8 seconds RetCode: 0 Status: OK PackageFile: SynExtend_1.18.0.tar.gz PackageFileSize: 2.764 MiB