Package: SwathXtend Version: 2.28.0 Command: /home/biocbuild/R/R/bin/R CMD check --install=check:SwathXtend.install-out.txt --library=/home/biocbuild/R/R/site-library --no-vignettes --timings SwathXtend_2.28.0.tar.gz StartedAt: 2025-01-31 10:54:27 -0000 (Fri, 31 Jan 2025) EndedAt: 2025-01-31 10:56:26 -0000 (Fri, 31 Jan 2025) EllapsedTime: 119.1 seconds RetCode: 0 Status: OK CheckDir: SwathXtend.Rcheck Warnings: 0