Package: SwathXtend Version: 2.28.0 Command: /home/biocbuild/R/R/bin/R CMD build --keep-empty-dirs --no-resave-data SwathXtend StartedAt: 2025-01-31 03:05:17 -0000 (Fri, 31 Jan 2025) EndedAt: 2025-01-31 03:09:35 -0000 (Fri, 31 Jan 2025) EllapsedTime: 258.2 seconds RetCode: 0 Status: OK PackageFile: SwathXtend_2.28.0.tar.gz PackageFileSize: 346.4 MiB