Package: SurfR Version: 1.2.7 Command: /Library/Frameworks/R.framework/Resources/bin/R CMD INSTALL SurfR StartedAt: 2025-03-31 17:59:01 -0400 (Mon, 31 Mar 2025) EndedAt: 2025-03-31 17:59:45 -0400 (Mon, 31 Mar 2025) EllapsedTime: 43.8 seconds RetCode: 0 Status: OK