Package: SurfR Version: 1.2.7 Command: /Library/Frameworks/R.framework/Resources/bin/R CMD build --keep-empty-dirs --no-resave-data SurfR StartedAt: 2025-04-01 08:55:38 -0400 (Tue, 01 Apr 2025) EndedAt: 2025-04-01 08:56:28 -0400 (Tue, 01 Apr 2025) EllapsedTime: 50.2 seconds RetCode: 0 Status: OK PackageFile: SurfR_1.2.7.tar.gz PackageFileSize: 372.8 KiB