Package: SurfR Version: 1.2.7 Command: rm -rf SurfR.buildbin-libdir && mkdir SurfR.buildbin-libdir && /Users/biocbuild/BBS/utils/build-universal.sh SurfR_1.2.7.tar.gz /Library/Frameworks/R.framework/Resources/bin/R SurfR.buildbin-libdir StartedAt: 2025-04-02 16:33:39 -0400 (Wed, 02 Apr 2025) EndedAt: 2025-04-02 16:34:27 -0400 (Wed, 02 Apr 2025) EllapsedTime: 48.6 seconds RetCode: 0 Status: OK PackageFile: SurfR_1.2.7.tgz PackageFileSize: 445.1 KiB