Package: Summix Version: 2.12.0 Command: chmod a+r Summix -R && F:\biocbuild\bbs-3.20-bioc\R\bin\R.exe CMD build --keep-empty-dirs --no-resave-data Summix StartedAt: 2025-01-27 22:16:44 -0500 (Mon, 27 Jan 2025) EndedAt: 2025-01-27 22:17:07 -0500 (Mon, 27 Jan 2025) EllapsedTime: 23.6 seconds RetCode: 0 Status: OK PackageFile: Summix_2.12.0.tar.gz PackageFileSize: 1.254 MiB