Package: Summix Version: 2.12.0 Command: rm -rf Summix.buildbin-libdir && mkdir Summix.buildbin-libdir && F:\biocbuild\bbs-3.20-bioc\R\bin\R.exe CMD INSTALL --build --library=Summix.buildbin-libdir Summix_2.12.0.tar.gz StartedAt: 2025-01-28 09:16:31 -0500 (Tue, 28 Jan 2025) EndedAt: 2025-01-28 09:16:48 -0500 (Tue, 28 Jan 2025) EllapsedTime: 16.9 seconds RetCode: 0 Status: OK PackageFile: Summix_2.12.0.zip PackageFileSize: 354.8 KiB