Package: Summix Version: 2.12.0 Command: /Library/Frameworks/R.framework/Resources/bin/R CMD build --keep-empty-dirs --no-resave-data Summix StartedAt: 2025-01-27 23:02:06 -0500 (Mon, 27 Jan 2025) EndedAt: 2025-01-27 23:02:38 -0500 (Mon, 27 Jan 2025) EllapsedTime: 31.9 seconds RetCode: 0 Status: OK PackageFile: Summix_2.12.0.tar.gz PackageFileSize: 1.254 MiB