Package: SummarizedExperiment Version: 1.36.0 Command: /home/biocbuild/R/R/bin/R CMD INSTALL SummarizedExperiment StartedAt: 2025-01-30 20:14:50 -0000 (Thu, 30 Jan 2025) EndedAt: 2025-01-30 20:15:25 -0000 (Thu, 30 Jan 2025) EllapsedTime: 35.1 seconds RetCode: 0 Status: OK