Package: SummarizedExperiment Version: 1.36.0 Command: /home/biocbuild/R/R/bin/R CMD build --keep-empty-dirs --no-resave-data SummarizedExperiment StartedAt: 2025-04-01 03:02:08 -0000 (Tue, 01 Apr 2025) EndedAt: 2025-04-01 03:03:06 -0000 (Tue, 01 Apr 2025) EllapsedTime: 58.1 seconds RetCode: 0 Status: OK PackageFile: SummarizedExperiment_1.36.0.tar.gz PackageFileSize: 762.1 KiB