Package: SummarizedBenchmark Version: 2.24.0 Command: /home/biocbuild/bbs-3.20-bioc/R/bin/R CMD build --keep-empty-dirs --no-resave-data --md5 SummarizedBenchmark StartedAt: 2025-01-27 20:18:43 -0500 (Mon, 27 Jan 2025) EndedAt: 2025-01-27 20:21:40 -0500 (Mon, 27 Jan 2025) EllapsedTime: 177.2 seconds RetCode: 1 Status: ERROR PackageFile: None PackageFileSize: NA