Package: SubCellBarCode Version: 1.22.0 Command: /home/biocbuild/R/R/bin/R CMD check --install=check:SubCellBarCode.install-out.txt --library=/home/biocbuild/R/R/site-library --no-vignettes --timings SubCellBarCode_1.22.0.tar.gz StartedAt: 2025-04-01 11:08:26 -0000 (Tue, 01 Apr 2025) EndedAt: 2025-04-01 11:13:02 -0000 (Tue, 01 Apr 2025) EllapsedTime: 275.4 seconds RetCode: 0 Status: OK CheckDir: SubCellBarCode.Rcheck Warnings: 0