Package: SubCellBarCode Version: 1.22.0 Command: /home/biocbuild/bbs-3.20-bioc/R/bin/R CMD check --install=check:SubCellBarCode.install-out.txt --library=/home/biocbuild/bbs-3.20-bioc/R/site-library --timings SubCellBarCode_1.22.0.tar.gz StartedAt: 2025-01-28 03:42:38 -0500 (Tue, 28 Jan 2025) EndedAt: 2025-01-28 03:50:27 -0500 (Tue, 28 Jan 2025) EllapsedTime: 469.5 seconds RetCode: 0 Status: OK CheckDir: SubCellBarCode.Rcheck Warnings: 0