Package: StructuralVariantAnnotation Version: 1.22.0 Command: /home/biocbuild/R/R/bin/R CMD INSTALL StructuralVariantAnnotation StartedAt: 2025-02-10 20:31:39 -0000 (Mon, 10 Feb 2025) EndedAt: 2025-02-10 20:32:32 -0000 (Mon, 10 Feb 2025) EllapsedTime: 53.1 seconds RetCode: 0 Status: OK