Package: Structstrings Version: 1.22.1 Command: /home/biocbuild/R/R/bin/R CMD build --keep-empty-dirs --no-resave-data Structstrings StartedAt: 2025-02-04 03:21:12 -0000 (Tue, 04 Feb 2025) EndedAt: 2025-02-04 03:21:56 -0000 (Tue, 04 Feb 2025) EllapsedTime: 44.0 seconds RetCode: 0 Status: OK PackageFile: Structstrings_1.22.1.tar.gz PackageFileSize: 438.4 KiB