Package: Structstrings Version: 1.22.1 Command: F:\biocbuild\bbs-3.20-bioc\R\bin\R.exe CMD INSTALL Structstrings StartedAt: 2025-01-27 15:44:18 -0500 (Mon, 27 Jan 2025) EndedAt: 2025-01-27 15:45:17 -0500 (Mon, 27 Jan 2025) EllapsedTime: 59.1 seconds RetCode: 0 Status: OK