Package: Structstrings Version: 1.22.1 Command: F:\biocbuild\bbs-3.20-bioc\R\bin\R.exe CMD check --no-multiarch --install=check:Structstrings.install-out.txt --library=F:\biocbuild\bbs-3.20-bioc\R\library --no-vignettes --timings Structstrings_1.22.1.tar.gz StartedAt: 2025-01-28 06:30:07 -0500 (Tue, 28 Jan 2025) EndedAt: 2025-01-28 06:34:04 -0500 (Tue, 28 Jan 2025) EllapsedTime: 237.9 seconds RetCode: 0 Status: OK CheckDir: Structstrings.Rcheck Warnings: 0