Package: Structstrings Version: 1.22.1 Command: chmod a+r Structstrings -R && F:\biocbuild\bbs-3.20-bioc\R\bin\R.exe CMD build --keep-empty-dirs --no-resave-data Structstrings StartedAt: 2025-03-31 22:13:37 -0400 (Mon, 31 Mar 2025) EndedAt: 2025-03-31 22:14:33 -0400 (Mon, 31 Mar 2025) EllapsedTime: 55.9 seconds RetCode: 0 Status: OK PackageFile: Structstrings_1.22.1.tar.gz PackageFileSize: 367.1 KiB