Package: Structstrings Version: 1.22.1 Command: rm -rf Structstrings.buildbin-libdir && mkdir Structstrings.buildbin-libdir && F:\biocbuild\bbs-3.20-bioc\R\bin\R.exe CMD INSTALL --build --library=Structstrings.buildbin-libdir Structstrings_1.22.1.tar.gz StartedAt: 2025-01-28 09:16:16 -0500 (Tue, 28 Jan 2025) EndedAt: 2025-01-28 09:17:20 -0500 (Tue, 28 Jan 2025) EllapsedTime: 64.7 seconds RetCode: 0 Status: OK PackageFile: Structstrings_1.22.1.zip PackageFileSize: 805.6 KiB