Package: Structstrings Version: 1.22.1 Command: /home/biocbuild/bbs-3.20-bioc/R/bin/R CMD build --keep-empty-dirs --no-resave-data --md5 Structstrings StartedAt: 2025-02-03 19:32:43 -0500 (Mon, 03 Feb 2025) EndedAt: 2025-02-03 19:33:09 -0500 (Mon, 03 Feb 2025) EllapsedTime: 26.0 seconds RetCode: 0 Status: OK PackageFile: Structstrings_1.22.1.tar.gz PackageFileSize: 368.5 KiB