Package: Structstrings Version: 1.22.1 Command: /Library/Frameworks/R.framework/Resources/bin/R CMD INSTALL Structstrings StartedAt: 2025-01-27 15:22:20 -0500 (Mon, 27 Jan 2025) EndedAt: 2025-01-27 15:23:03 -0500 (Mon, 27 Jan 2025) EllapsedTime: 43.1 seconds RetCode: 0 Status: OK