Package: Structstrings Version: 1.22.1 Command: rm -rf Structstrings.buildbin-libdir && mkdir Structstrings.buildbin-libdir && /Users/biocbuild/BBS/utils/build-universal.sh Structstrings_1.22.1.tar.gz /Library/Frameworks/R.framework/Resources/bin/R Structstrings.buildbin-libdir StartedAt: 2025-01-31 13:48:36 -0500 (Fri, 31 Jan 2025) EndedAt: 2025-01-31 13:49:20 -0500 (Fri, 31 Jan 2025) EllapsedTime: 44.0 seconds RetCode: 0 Status: OK PackageFile: Structstrings_1.22.1.tgz PackageFileSize: 809.8 KiB