############################################################################## ############################################################################## ### ### Running command: ### ### /home/biocbuild/R/R/bin/R CMD build --keep-empty-dirs --no-resave-data Statial ### ############################################################################## ############################################################################## * checking for file ‘Statial/DESCRIPTION’ ... OK * preparing ‘Statial’: * checking DESCRIPTION meta-information ... OK * installing the package to build vignettes ----------------------------------- ERROR: dependency ‘concaveman’ is not available for package ‘Statial’ * removing ‘/home/biocbuild/tmp/RtmpMnQd2o/Rinst12270d6119c97/Statial’ ----------------------------------- ERROR: package installation failed