Package: Statial Version: 1.8.0 Command: rm -rf Statial.buildbin-libdir && mkdir Statial.buildbin-libdir && /Users/biocbuild/BBS/utils/build-universal.sh Statial_1.8.0.tar.gz /Library/Frameworks/R.framework/Resources/bin/R Statial.buildbin-libdir StartedAt: 2025-01-28 14:42:47 -0500 (Tue, 28 Jan 2025) EndedAt: 2025-01-28 14:44:06 -0500 (Tue, 28 Jan 2025) EllapsedTime: 79.4 seconds RetCode: 0 Status: OK PackageFile: Statial_1.8.0.tgz PackageFileSize: 9.677 MiB