Package: StabMap Version: 1.0.0 Command: /home/biocbuild/R/R/bin/R CMD build --keep-empty-dirs --no-resave-data StabMap StartedAt: 2025-02-04 03:20:05 -0000 (Tue, 04 Feb 2025) EndedAt: 2025-02-04 03:26:35 -0000 (Tue, 04 Feb 2025) EllapsedTime: 389.7 seconds RetCode: 0 Status: OK PackageFile: StabMap_1.0.0.tar.gz PackageFileSize: 1.793 MiB