Package: StabMap Version: 1.0.0 Command: rm -rf StabMap.buildbin-libdir && mkdir StabMap.buildbin-libdir && /Users/biocbuild/BBS/utils/build-universal.sh StabMap_1.0.0.tar.gz /Library/Frameworks/R.framework/Resources/bin/R StabMap.buildbin-libdir StartedAt: 2025-04-01 12:52:02 -0400 (Tue, 01 Apr 2025) EndedAt: 2025-04-01 12:52:47 -0400 (Tue, 01 Apr 2025) EllapsedTime: 44.8 seconds RetCode: 0 Status: OK PackageFile: StabMap_1.0.0.tgz PackageFileSize: 1.738 MiB