Package: SpotSweeper Version: 1.2.0 Command: /home/biocbuild/R/R/bin/R CMD INSTALL SpotSweeper StartedAt: 2025-01-27 21:55:30 -0000 (Mon, 27 Jan 2025) EndedAt: 2025-01-27 21:55:31 -0000 (Mon, 27 Jan 2025) EllapsedTime: 0.3 seconds RetCode: 1 Status: ERROR